BEGIN:VCALENDAR
VERSION:2.0
PRODID:-//Foothills Master Swim Club - ECPv6.15.11//NONSGML v1.0//EN
CALSCALE:GREGORIAN
METHOD:PUBLISH
X-WR-CALNAME:Foothills Master Swim Club
X-ORIGINAL-URL:https://fmsc.ca
X-WR-CALDESC:Events for Foothills Master Swim Club
REFRESH-INTERVAL;VALUE=DURATION:PT1H
X-Robots-Tag:noindex
X-PUBLISHED-TTL:PT1H
BEGIN:VTIMEZONE
TZID:America/Boise
BEGIN:DAYLIGHT
TZOFFSETFROM:-0700
TZOFFSETTO:-0600
TZNAME:MDT
DTSTART:20240310T090000
END:DAYLIGHT
BEGIN:STANDARD
TZOFFSETFROM:-0600
TZOFFSETTO:-0700
TZNAME:MST
DTSTART:20241103T080000
END:STANDARD
BEGIN:DAYLIGHT
TZOFFSETFROM:-0700
TZOFFSETTO:-0600
TZNAME:MDT
DTSTART:20250309T090000
END:DAYLIGHT
BEGIN:STANDARD
TZOFFSETFROM:-0600
TZOFFSETTO:-0700
TZNAME:MST
DTSTART:20251102T080000
END:STANDARD
BEGIN:DAYLIGHT
TZOFFSETFROM:-0700
TZOFFSETTO:-0600
TZNAME:MDT
DTSTART:20260308T090000
END:DAYLIGHT
BEGIN:STANDARD
TZOFFSETFROM:-0600
TZOFFSETTO:-0700
TZNAME:MST
DTSTART:20261101T080000
END:STANDARD
END:VTIMEZONE
BEGIN:VEVENT
DTSTART;TZID=America/Boise:20250911T180000
DTEND;TZID=America/Boise:20250911T190000
DTSTAMP:20260423T084126
CREATED:20250829T201002Z
LAST-MODIFIED:20250829T201002Z
UID:1290-1757613600-1757617200@fmsc.ca
SUMMARY:Thursday Swim Practice
DESCRIPTION:
URL:https://fmsc.ca/event/thursday-swim-practice-2/
LOCATION:Foothills Pool\, 2915 24 Ave NW\, Calgary\, AB T2N 4L6\, Calgary\, Alberta\, Canada
END:VEVENT
BEGIN:VEVENT
DTSTART;TZID=America/Boise:20250909T180000
DTEND;TZID=America/Boise:20250909T190000
DTSTAMP:20260423T084126
CREATED:20250829T200957Z
LAST-MODIFIED:20250829T200957Z
UID:1286-1757440800-1757444400@fmsc.ca
SUMMARY:Tuesday Swim Practice
DESCRIPTION:
URL:https://fmsc.ca/event/tuesday-swim-practice-2/
LOCATION:Foothills Pool\, 2915 24 Ave NW\, Calgary\, AB T2N 4L6\, Calgary\, Alberta\, Canada
END:VEVENT
BEGIN:VEVENT
DTSTART;TZID=America/Boise:20250906T093000
DTEND;TZID=America/Boise:20250906T103000
DTSTAMP:20260423T084126
CREATED:20250829T203655Z
LAST-MODIFIED:20250829T203655Z
UID:1415-1757151000-1757154600@fmsc.ca
SUMMARY:Catch Up Coffee at Barb's
DESCRIPTION:
URL:https://fmsc.ca/event/catch-up-coffee-at-barbs/
LOCATION:Barb’s\, 1209 20 Street NW\, Canada
END:VEVENT
BEGIN:VEVENT
DTSTART;TZID=America/Boise:20250906T073000
DTEND;TZID=America/Boise:20250906T090000
DTSTAMP:20260423T084126
CREATED:20250829T201004Z
LAST-MODIFIED:20250829T201004Z
UID:1293-1757143800-1757149200@fmsc.ca
SUMMARY:Saturday Swim Practice
DESCRIPTION:
URL:https://fmsc.ca/event/saturday-swim-practice/
END:VEVENT
BEGIN:VEVENT
DTSTART;TZID=America/Boise:20250904T180000
DTEND;TZID=America/Boise:20250904T190000
DTSTAMP:20260423T084126
CREATED:20250829T200958Z
LAST-MODIFIED:20250829T200958Z
UID:1289-1757008800-1757012400@fmsc.ca
SUMMARY:Thursday Swim Practice
DESCRIPTION:
URL:https://fmsc.ca/event/thursday-swim-practice/
LOCATION:Foothills Pool\, 2915 24 Ave NW\, Calgary\, AB T2N 4L6\, Calgary\, Alberta\, Canada
END:VEVENT
BEGIN:VEVENT
DTSTART;TZID=America/Boise:20250902T180000
DTEND;TZID=America/Boise:20250902T190000
DTSTAMP:20260423T084126
CREATED:20250829T200957Z
LAST-MODIFIED:20250829T200957Z
UID:1285-1756836000-1756839600@fmsc.ca
SUMMARY:Tuesday Swim Practice
DESCRIPTION:
URL:https://fmsc.ca/event/tuesday-swim-practice/
LOCATION:Foothills Pool\, 2915 24 Ave NW\, Calgary\, AB T2N 4L6\, Calgary\, Alberta\, Canada
END:VEVENT
BEGIN:VEVENT
DTSTART;TZID=America/Boise:20250628T073000
DTEND;TZID=America/Boise:20250628T090000
DTSTAMP:20260423T084126
CREATED:20241010T013417Z
LAST-MODIFIED:20241010T022702Z
UID:1052-1751095800-1751101200@fmsc.ca
SUMMARY:Morning Swim Practice
DESCRIPTION:
URL:https://fmsc.ca/event/morning-swim-practice-38/
LOCATION:Renfrew Aquatic & Recreation Centre\, 810 13 Ave NE\, Calgary\, Alberta\, T2E 8A1\, Canada
END:VEVENT
BEGIN:VEVENT
DTSTART;TZID=America/Boise:20250626T180000
DTEND;TZID=America/Boise:20250626T190000
DTSTAMP:20260423T084126
CREATED:20241010T005358Z
LAST-MODIFIED:20241010T005358Z
UID:1012-1750960800-1750964400@fmsc.ca
SUMMARY:Swim Practice
DESCRIPTION:
URL:https://fmsc.ca/event/swim-practice-73/
LOCATION:Foothills Pool\, 2915 24 Ave NW\, Calgary\, AB T2N 4L6\, Calgary\, Alberta\, Canada
END:VEVENT
BEGIN:VEVENT
DTSTART;TZID=America/Boise:20250624T180000
DTEND;TZID=America/Boise:20250624T190000
DTSTAMP:20260423T084126
CREATED:20241010T005158Z
LAST-MODIFIED:20241010T005158Z
UID:1011-1750788000-1750791600@fmsc.ca
SUMMARY:Swim Practice
DESCRIPTION:
URL:https://fmsc.ca/event/swim-practice-72/
LOCATION:Foothills Pool\, 2915 24 Ave NW\, Calgary\, AB T2N 4L6\, Calgary\, Alberta\, Canada
END:VEVENT
BEGIN:VEVENT
DTSTART;TZID=America/Boise:20250621T073000
DTEND;TZID=America/Boise:20250621T090000
DTSTAMP:20260423T084126
CREATED:20241010T013417Z
LAST-MODIFIED:20241010T022248Z
UID:1051-1750491000-1750496400@fmsc.ca
SUMMARY:Morning Swim Practice
DESCRIPTION:
URL:https://fmsc.ca/event/morning-swim-practice-37/
LOCATION:Renfrew Aquatic & Recreation Centre\, 810 13 Ave NE\, Calgary\, Alberta\, T2E 8A1\, Canada
END:VEVENT
BEGIN:VEVENT
DTSTART;TZID=America/Boise:20250619T180000
DTEND;TZID=America/Boise:20250619T190000
DTSTAMP:20260423T084126
CREATED:20241010T005158Z
LAST-MODIFIED:20241010T005158Z
UID:1010-1750356000-1750359600@fmsc.ca
SUMMARY:Swim Practice
DESCRIPTION:
URL:https://fmsc.ca/event/swim-practice-71/
LOCATION:Foothills Pool\, 2915 24 Ave NW\, Calgary\, AB T2N 4L6\, Calgary\, Alberta\, Canada
END:VEVENT
BEGIN:VEVENT
DTSTART;TZID=America/Boise:20250617T180000
DTEND;TZID=America/Boise:20250617T190000
DTSTAMP:20260423T084126
CREATED:20241010T005157Z
LAST-MODIFIED:20241010T005157Z
UID:1009-1750183200-1750186800@fmsc.ca
SUMMARY:Swim Practice
DESCRIPTION:
URL:https://fmsc.ca/event/swim-practice-70/
LOCATION:Foothills Pool\, 2915 24 Ave NW\, Calgary\, AB T2N 4L6\, Calgary\, Alberta\, Canada
END:VEVENT
BEGIN:VEVENT
DTSTART;TZID=America/Boise:20250614T073000
DTEND;TZID=America/Boise:20250614T090000
DTSTAMP:20260423T084126
CREATED:20241010T013417Z
LAST-MODIFIED:20241010T022308Z
UID:1050-1749886200-1749891600@fmsc.ca
SUMMARY:Morning Swim Practice
DESCRIPTION:
URL:https://fmsc.ca/event/morning-swim-practice-36/
LOCATION:Renfrew Aquatic & Recreation Centre\, 810 13 Ave NE\, Calgary\, Alberta\, T2E 8A1\, Canada
END:VEVENT
BEGIN:VEVENT
DTSTART;TZID=America/Boise:20250612T180000
DTEND;TZID=America/Boise:20250612T190000
DTSTAMP:20260423T084126
CREATED:20241010T005157Z
LAST-MODIFIED:20241010T005157Z
UID:1008-1749751200-1749754800@fmsc.ca
SUMMARY:Swim Practice
DESCRIPTION:
URL:https://fmsc.ca/event/swim-practice-69/
LOCATION:Foothills Pool\, 2915 24 Ave NW\, Calgary\, AB T2N 4L6\, Calgary\, Alberta\, Canada
END:VEVENT
BEGIN:VEVENT
DTSTART;TZID=America/Boise:20250610T180000
DTEND;TZID=America/Boise:20250610T190000
DTSTAMP:20260423T084126
CREATED:20241010T005157Z
LAST-MODIFIED:20241010T005157Z
UID:1007-1749578400-1749582000@fmsc.ca
SUMMARY:Swim Practice
DESCRIPTION:
URL:https://fmsc.ca/event/swim-practice-68/
LOCATION:Foothills Pool\, 2915 24 Ave NW\, Calgary\, AB T2N 4L6\, Calgary\, Alberta\, Canada
END:VEVENT
BEGIN:VEVENT
DTSTART;TZID=America/Boise:20250607T073000
DTEND;TZID=America/Boise:20250607T090000
DTSTAMP:20260423T084126
CREATED:20241010T013402Z
LAST-MODIFIED:20241010T022348Z
UID:1049-1749281400-1749286800@fmsc.ca
SUMMARY:Morning Swim Practice
DESCRIPTION:
URL:https://fmsc.ca/event/morning-swim-practice-35/
LOCATION:Renfrew Aquatic & Recreation Centre\, 810 13 Ave NE\, Calgary\, Alberta\, T2E 8A1\, Canada
END:VEVENT
BEGIN:VEVENT
DTSTART;TZID=America/Boise:20250605T180000
DTEND;TZID=America/Boise:20250605T190000
DTSTAMP:20260423T084126
CREATED:20241010T004957Z
LAST-MODIFIED:20241010T004957Z
UID:1006-1749146400-1749150000@fmsc.ca
SUMMARY:Swim Practice
DESCRIPTION:
URL:https://fmsc.ca/event/swim-practice-67/
LOCATION:Foothills Pool\, 2915 24 Ave NW\, Calgary\, AB T2N 4L6\, Calgary\, Alberta\, Canada
END:VEVENT
BEGIN:VEVENT
DTSTART;TZID=America/Boise:20250603T180000
DTEND;TZID=America/Boise:20250603T190000
DTSTAMP:20260423T084126
CREATED:20241010T004957Z
LAST-MODIFIED:20241010T004957Z
UID:1005-1748973600-1748977200@fmsc.ca
SUMMARY:Swim Practice
DESCRIPTION:
URL:https://fmsc.ca/event/swim-practice-66/
LOCATION:Foothills Pool\, 2915 24 Ave NW\, Calgary\, AB T2N 4L6\, Calgary\, Alberta\, Canada
END:VEVENT
BEGIN:VEVENT
DTSTART;TZID=America/Boise:20250531T073000
DTEND;TZID=America/Boise:20250531T090000
DTSTAMP:20260423T084126
CREATED:20241010T013401Z
LAST-MODIFIED:20241010T022408Z
UID:1048-1748676600-1748682000@fmsc.ca
SUMMARY:Morning Swim Practice
DESCRIPTION:
URL:https://fmsc.ca/event/morning-swim-practice-34/
LOCATION:Renfrew Aquatic & Recreation Centre\, 810 13 Ave NE\, Calgary\, Alberta\, T2E 8A1\, Canada
END:VEVENT
BEGIN:VEVENT
DTSTART;TZID=America/Boise:20250529T180000
DTEND;TZID=America/Boise:20250529T190000
DTSTAMP:20260423T084126
CREATED:20241010T004956Z
LAST-MODIFIED:20241010T004956Z
UID:1004-1748541600-1748545200@fmsc.ca
SUMMARY:Swim Practice
DESCRIPTION:
URL:https://fmsc.ca/event/swim-practice-65/
LOCATION:Foothills Pool\, 2915 24 Ave NW\, Calgary\, AB T2N 4L6\, Calgary\, Alberta\, Canada
END:VEVENT
BEGIN:VEVENT
DTSTART;TZID=America/Boise:20250527T180000
DTEND;TZID=America/Boise:20250527T190000
DTSTAMP:20260423T084126
CREATED:20241010T004956Z
LAST-MODIFIED:20241010T004956Z
UID:1003-1748368800-1748372400@fmsc.ca
SUMMARY:Swim Practice
DESCRIPTION:
URL:https://fmsc.ca/event/swim-practice-64/
LOCATION:Foothills Pool\, 2915 24 Ave NW\, Calgary\, AB T2N 4L6\, Calgary\, Alberta\, Canada
END:VEVENT
BEGIN:VEVENT
DTSTART;TZID=America/Boise:20250524T073000
DTEND;TZID=America/Boise:20250524T090000
DTSTAMP:20260423T084126
CREATED:20241010T013401Z
LAST-MODIFIED:20241010T013401Z
UID:1047-1748071800-1748077200@fmsc.ca
SUMMARY:Morning Swim Practice
DESCRIPTION:
URL:https://fmsc.ca/event/morning-swim-practice-33/
END:VEVENT
BEGIN:VEVENT
DTSTART;TZID=America/Boise:20250522T180000
DTEND;TZID=America/Boise:20250522T190000
DTSTAMP:20260423T084126
CREATED:20241010T004956Z
LAST-MODIFIED:20241010T004956Z
UID:1002-1747936800-1747940400@fmsc.ca
SUMMARY:Swim Practice
DESCRIPTION:
URL:https://fmsc.ca/event/swim-practice-63/
LOCATION:Foothills Pool\, 2915 24 Ave NW\, Calgary\, AB T2N 4L6\, Calgary\, Alberta\, Canada
END:VEVENT
BEGIN:VEVENT
DTSTART;TZID=America/Boise:20250520T180000
DTEND;TZID=America/Boise:20250520T190000
DTSTAMP:20260423T084126
CREATED:20241010T004756Z
LAST-MODIFIED:20241010T004756Z
UID:1001-1747764000-1747767600@fmsc.ca
SUMMARY:Swim Practice
DESCRIPTION:
URL:https://fmsc.ca/event/swim-practice-62/
LOCATION:Foothills Pool\, 2915 24 Ave NW\, Calgary\, AB T2N 4L6\, Calgary\, Alberta\, Canada
END:VEVENT
BEGIN:VEVENT
DTSTART;TZID=America/Boise:20250517T073000
DTEND;TZID=America/Boise:20250517T090000
DTSTAMP:20260423T084126
CREATED:20241010T013401Z
LAST-MODIFIED:20241010T022444Z
UID:1046-1747467000-1747472400@fmsc.ca
SUMMARY:Morning Swim Practice
DESCRIPTION:
URL:https://fmsc.ca/event/morning-swim-practice-32/
LOCATION:Renfrew Aquatic & Recreation Centre\, 810 13 Ave NE\, Calgary\, Alberta\, T2E 8A1\, Canada
END:VEVENT
BEGIN:VEVENT
DTSTART;TZID=America/Boise:20250515T180000
DTEND;TZID=America/Boise:20250515T190000
DTSTAMP:20260423T084126
CREATED:20241010T004756Z
LAST-MODIFIED:20241010T004756Z
UID:1000-1747332000-1747335600@fmsc.ca
SUMMARY:Swim Practice
DESCRIPTION:
URL:https://fmsc.ca/event/swim-practice-61/
LOCATION:Foothills Pool\, 2915 24 Ave NW\, Calgary\, AB T2N 4L6\, Calgary\, Alberta\, Canada
END:VEVENT
BEGIN:VEVENT
DTSTART;TZID=America/Boise:20250513T180000
DTEND;TZID=America/Boise:20250513T190000
DTSTAMP:20260423T084126
CREATED:20241010T004756Z
LAST-MODIFIED:20241010T004756Z
UID:999-1747159200-1747162800@fmsc.ca
SUMMARY:Swim Practice
DESCRIPTION:
URL:https://fmsc.ca/event/swim-practice-60/
LOCATION:Foothills Pool\, 2915 24 Ave NW\, Calgary\, AB T2N 4L6\, Calgary\, Alberta\, Canada
END:VEVENT
BEGIN:VEVENT
DTSTART;TZID=America/Boise:20250510T073000
DTEND;TZID=America/Boise:20250510T090000
DTSTAMP:20260423T084126
CREATED:20241010T013401Z
LAST-MODIFIED:20241010T013401Z
UID:1045-1746862200-1746867600@fmsc.ca
SUMMARY:Morning Swim Practice
DESCRIPTION:
URL:https://fmsc.ca/event/morning-swim-practice-31/
END:VEVENT
BEGIN:VEVENT
DTSTART;TZID=America/Boise:20250508T180000
DTEND;TZID=America/Boise:20250508T190000
DTSTAMP:20260423T084126
CREATED:20241010T004755Z
LAST-MODIFIED:20241010T004755Z
UID:998-1746727200-1746730800@fmsc.ca
SUMMARY:Swim Practice
DESCRIPTION:
URL:https://fmsc.ca/event/swim-practice-59/
LOCATION:Foothills Pool\, 2915 24 Ave NW\, Calgary\, AB T2N 4L6\, Calgary\, Alberta\, Canada
END:VEVENT
BEGIN:VEVENT
DTSTART;TZID=America/Boise:20250506T180000
DTEND;TZID=America/Boise:20250506T190000
DTSTAMP:20260423T084126
CREATED:20241010T004755Z
LAST-MODIFIED:20241010T004755Z
UID:997-1746554400-1746558000@fmsc.ca
SUMMARY:Swim Practice
DESCRIPTION:
URL:https://fmsc.ca/event/swim-practice-58/
LOCATION:Foothills Pool\, 2915 24 Ave NW\, Calgary\, AB T2N 4L6\, Calgary\, Alberta\, Canada
END:VEVENT
END:VCALENDAR