BEGIN:VCALENDAR
VERSION:2.0
PRODID:-//Foothills Master Swim Club - ECPv6.15.11//NONSGML v1.0//EN
CALSCALE:GREGORIAN
METHOD:PUBLISH
X-WR-CALNAME:Foothills Master Swim Club
X-ORIGINAL-URL:https://fmsc.ca
X-WR-CALDESC:Events for Foothills Master Swim Club
REFRESH-INTERVAL;VALUE=DURATION:PT1H
X-Robots-Tag:noindex
X-PUBLISHED-TTL:PT1H
BEGIN:VTIMEZONE
TZID:America/Boise
BEGIN:DAYLIGHT
TZOFFSETFROM:-0700
TZOFFSETTO:-0600
TZNAME:MDT
DTSTART:20240310T090000
END:DAYLIGHT
BEGIN:STANDARD
TZOFFSETFROM:-0600
TZOFFSETTO:-0700
TZNAME:MST
DTSTART:20241103T080000
END:STANDARD
BEGIN:DAYLIGHT
TZOFFSETFROM:-0700
TZOFFSETTO:-0600
TZNAME:MDT
DTSTART:20250309T090000
END:DAYLIGHT
BEGIN:STANDARD
TZOFFSETFROM:-0600
TZOFFSETTO:-0700
TZNAME:MST
DTSTART:20251102T080000
END:STANDARD
BEGIN:DAYLIGHT
TZOFFSETFROM:-0700
TZOFFSETTO:-0600
TZNAME:MDT
DTSTART:20260308T090000
END:DAYLIGHT
BEGIN:STANDARD
TZOFFSETFROM:-0600
TZOFFSETTO:-0700
TZNAME:MST
DTSTART:20261101T080000
END:STANDARD
END:VTIMEZONE
BEGIN:VEVENT
DTSTART;TZID=America/Boise:20251118T180000
DTEND;TZID=America/Boise:20251118T190000
DTSTAMP:20260423T040923
CREATED:20250829T201102Z
LAST-MODIFIED:20250829T201102Z
UID:1311-1763488800-1763492400@fmsc.ca
SUMMARY:Tuesday Swim Practice
DESCRIPTION:
URL:https://fmsc.ca/event/tuesday-swim-practice-10/
LOCATION:Foothills Pool\, 2915 24 Ave NW\, Calgary\, AB T2N 4L6\, Calgary\, Alberta\, Canada
END:VEVENT
BEGIN:VEVENT
DTSTART;TZID=America/Boise:20251115T073000
DTEND;TZID=America/Boise:20251115T090000
DTSTAMP:20260423T040923
CREATED:20250829T201148Z
LAST-MODIFIED:20250829T201148Z
UID:1319-1763191800-1763197200@fmsc.ca
SUMMARY:Saturday Swim Practice
DESCRIPTION:
URL:https://fmsc.ca/event/saturday-swim-practice-11/
LOCATION:Alberta
END:VEVENT
BEGIN:VEVENT
DTSTART;TZID=America/Boise:20251113T180000
DTEND;TZID=America/Boise:20251113T200000
DTSTAMP:20260423T040923
CREATED:20250923T210218Z
LAST-MODIFIED:20250923T210218Z
UID:1465-1763056800-1763064000@fmsc.ca
SUMMARY:Ladies Soup Night
DESCRIPTION:Think of it as comfort food meets comfort friends—ladles up\, ladies! \n@Kathleen’s!
URL:https://fmsc.ca/event/ladies-soup-night-2/
LOCATION:Alberta
END:VEVENT
BEGIN:VEVENT
DTSTART;TZID=America/Boise:20251113T180000
DTEND;TZID=America/Boise:20251113T190000
DTSTAMP:20260423T040923
CREATED:20250829T201103Z
LAST-MODIFIED:20250829T201103Z
UID:1314-1763056800-1763060400@fmsc.ca
SUMMARY:Thursday Swim Practice
DESCRIPTION:
URL:https://fmsc.ca/event/thursday-swim-practice-11/
LOCATION:Foothills Pool\, 2915 24 Ave NW\, Calgary\, AB T2N 4L6\, Calgary\, Alberta\, Canada
END:VEVENT
BEGIN:VEVENT
DTSTART;TZID=America/Boise:20251108T073000
DTEND;TZID=America/Boise:20251108T090000
DTSTAMP:20260423T040923
CREATED:20250829T201148Z
LAST-MODIFIED:20250829T201148Z
UID:1318-1762587000-1762592400@fmsc.ca
SUMMARY:Saturday Swim Practice
DESCRIPTION:
URL:https://fmsc.ca/event/saturday-swim-practice-10/
LOCATION:Alberta
END:VEVENT
BEGIN:VEVENT
DTSTART;TZID=America/Boise:20251106T180000
DTEND;TZID=America/Boise:20251106T190000
DTSTAMP:20260423T040924
CREATED:20250829T201103Z
LAST-MODIFIED:20250829T201103Z
UID:1313-1762452000-1762455600@fmsc.ca
SUMMARY:Thursday Swim Practice
DESCRIPTION:
URL:https://fmsc.ca/event/thursday-swim-practice-10/
LOCATION:Foothills Pool\, 2915 24 Ave NW\, Calgary\, AB T2N 4L6\, Calgary\, Alberta\, Canada
END:VEVENT
BEGIN:VEVENT
DTSTART;TZID=America/Boise:20251104T180000
DTEND;TZID=America/Boise:20251104T190000
DTSTAMP:20260423T040924
CREATED:20250829T201102Z
LAST-MODIFIED:20250829T201102Z
UID:1310-1762279200-1762282800@fmsc.ca
SUMMARY:Tuesday Swim Practice
DESCRIPTION:
URL:https://fmsc.ca/event/tuesday-swim-practice-9/
LOCATION:Foothills Pool\, 2915 24 Ave NW\, Calgary\, AB T2N 4L6\, Calgary\, Alberta\, Canada
END:VEVENT
BEGIN:VEVENT
DTSTART;TZID=America/Boise:20251101T073000
DTEND;TZID=America/Boise:20251101T090000
DTSTAMP:20260423T040924
CREATED:20250829T201148Z
LAST-MODIFIED:20250829T201148Z
UID:1317-1761982200-1761987600@fmsc.ca
SUMMARY:Saturday Swim Practice
DESCRIPTION:
URL:https://fmsc.ca/event/saturday-swim-practice-9/
LOCATION:Alberta
END:VEVENT
BEGIN:VEVENT
DTSTART;TZID=America/Boise:20251030T180000
DTEND;TZID=America/Boise:20251030T190000
DTSTAMP:20260423T040924
CREATED:20250829T201047Z
LAST-MODIFIED:20250829T201047Z
UID:1305-1761847200-1761850800@fmsc.ca
SUMMARY:Thursday Swim Practice
DESCRIPTION:
URL:https://fmsc.ca/event/thursday-swim-practice-9/
LOCATION:Foothills Pool\, 2915 24 Ave NW\, Calgary\, AB T2N 4L6\, Calgary\, Alberta\, Canada
END:VEVENT
BEGIN:VEVENT
DTSTART;TZID=America/Boise:20251028T193000
DTEND;TZID=America/Boise:20251028T210000
DTSTAMP:20260423T040924
CREATED:20251014T220147Z
LAST-MODIFIED:20251014T220228Z
UID:1490-1761679800-1761685200@fmsc.ca
SUMMARY:Gus's Pizza Night
DESCRIPTION:Come eat pizza with the team after our awesome swim!
URL:https://fmsc.ca/event/guss-pizza-night/
LOCATION:Gus’s Pizza Calgary\, 1620 29 St NW\,\, Calgary\, AB\, T2N 4L7\, Canada
END:VEVENT
BEGIN:VEVENT
DTSTART;TZID=America/Boise:20251028T180000
DTEND;TZID=America/Boise:20251028T190000
DTSTAMP:20260423T040924
CREATED:20250829T201031Z
LAST-MODIFIED:20250829T201031Z
UID:1300-1761674400-1761678000@fmsc.ca
SUMMARY:Tuesday Swim Practice
DESCRIPTION:
URL:https://fmsc.ca/event/tuesday-swim-practice-8/
LOCATION:Foothills Pool\, 2915 24 Ave NW\, Calgary\, AB T2N 4L6\, Calgary\, Alberta\, Canada
END:VEVENT
BEGIN:VEVENT
DTSTART;TZID=America/Boise:20251025T073000
DTEND;TZID=America/Boise:20251025T090000
DTSTAMP:20260423T040924
CREATED:20250829T201048Z
LAST-MODIFIED:20250829T201048Z
UID:1309-1761377400-1761382800@fmsc.ca
SUMMARY:Saturday Swim Practice
DESCRIPTION:
URL:https://fmsc.ca/event/saturday-swim-practice-8/
LOCATION:Alberta
END:VEVENT
BEGIN:VEVENT
DTSTART;TZID=America/Boise:20251023T180000
DTEND;TZID=America/Boise:20251023T190000
DTSTAMP:20260423T040924
CREATED:20250829T201033Z
LAST-MODIFIED:20251014T220019Z
UID:1304-1761242400-1761246000@fmsc.ca
SUMMARY:Thursday Swim Practice | Ladies Soup Night @ Kathleen's
DESCRIPTION:
URL:https://fmsc.ca/event/thursday-swim-practice-8/
LOCATION:Foothills Pool\, 2915 24 Ave NW\, Calgary\, AB T2N 4L6\, Calgary\, Alberta\, Canada
END:VEVENT
BEGIN:VEVENT
DTSTART;TZID=America/Boise:20251021T180000
DTEND;TZID=America/Boise:20251021T190000
DTSTAMP:20260423T040924
CREATED:20250829T201018Z
LAST-MODIFIED:20250829T201018Z
UID:1299-1761069600-1761073200@fmsc.ca
SUMMARY:Tuesday Swim Practice
DESCRIPTION:
URL:https://fmsc.ca/event/tuesday-swim-practice-7/
LOCATION:Foothills Pool\, 2915 24 Ave NW\, Calgary\, AB T2N 4L6\, Calgary\, Alberta\, Canada
END:VEVENT
BEGIN:VEVENT
DTSTART;TZID=America/Boise:20251018T073000
DTEND;TZID=America/Boise:20251018T090000
DTSTAMP:20260423T040924
CREATED:20250829T201048Z
LAST-MODIFIED:20250829T201048Z
UID:1308-1760772600-1760778000@fmsc.ca
SUMMARY:Saturday Swim Practice
DESCRIPTION:
URL:https://fmsc.ca/event/saturday-swim-practice-7/
LOCATION:Alberta
END:VEVENT
BEGIN:VEVENT
DTSTART;TZID=America/Boise:20251016T180000
DTEND;TZID=America/Boise:20251016T190000
DTSTAMP:20260423T040924
CREATED:20250829T201032Z
LAST-MODIFIED:20250829T201032Z
UID:1303-1760637600-1760641200@fmsc.ca
SUMMARY:Thursday Swim Practice
DESCRIPTION:
URL:https://fmsc.ca/event/thursday-swim-practice-7/
LOCATION:Foothills Pool\, 2915 24 Ave NW\, Calgary\, AB T2N 4L6\, Calgary\, Alberta\, Canada
END:VEVENT
BEGIN:VEVENT
DTSTART;TZID=America/Boise:20251014T180000
DTEND;TZID=America/Boise:20251014T190000
DTSTAMP:20260423T040924
CREATED:20250829T201018Z
LAST-MODIFIED:20250829T201018Z
UID:1298-1760464800-1760468400@fmsc.ca
SUMMARY:Tuesday Swim Practice
DESCRIPTION:
URL:https://fmsc.ca/event/tuesday-swim-practice-6/
LOCATION:Foothills Pool\, 2915 24 Ave NW\, Calgary\, AB T2N 4L6\, Calgary\, Alberta\, Canada
END:VEVENT
BEGIN:VEVENT
DTSTART;TZID=America/Boise:20251011T073000
DTEND;TZID=America/Boise:20251011T090000
DTSTAMP:20260423T040924
CREATED:20250829T201048Z
LAST-MODIFIED:20250829T201048Z
UID:1307-1760167800-1760173200@fmsc.ca
SUMMARY:Saturday Swim Practice
DESCRIPTION:
URL:https://fmsc.ca/event/saturday-swim-practice-6/
LOCATION:Alberta
END:VEVENT
BEGIN:VEVENT
DTSTART;TZID=America/Boise:20251009T180000
DTEND;TZID=America/Boise:20251009T190000
DTSTAMP:20260423T040924
CREATED:20250829T201032Z
LAST-MODIFIED:20250829T201032Z
UID:1302-1760032800-1760036400@fmsc.ca
SUMMARY:Thursday Swim Practice
DESCRIPTION:
URL:https://fmsc.ca/event/thursday-swim-practice-6/
LOCATION:Foothills Pool\, 2915 24 Ave NW\, Calgary\, AB T2N 4L6\, Calgary\, Alberta\, Canada
END:VEVENT
BEGIN:VEVENT
DTSTART;TZID=America/Boise:20251007T180000
DTEND;TZID=America/Boise:20251007T190000
DTSTAMP:20260423T040924
CREATED:20250829T201018Z
LAST-MODIFIED:20250829T201018Z
UID:1297-1759860000-1759863600@fmsc.ca
SUMMARY:Tuesday Swim Practice
DESCRIPTION:
URL:https://fmsc.ca/event/tuesday-swim-practice-5/
LOCATION:Foothills Pool\, 2915 24 Ave NW\, Calgary\, AB T2N 4L6\, Calgary\, Alberta\, Canada
END:VEVENT
BEGIN:VEVENT
DTSTART;TZID=America/Boise:20251004T073000
DTEND;TZID=America/Boise:20251004T090000
DTSTAMP:20260423T040924
CREATED:20250829T201047Z
LAST-MODIFIED:20250829T201047Z
UID:1306-1759563000-1759568400@fmsc.ca
SUMMARY:Saturday Swim Practice
DESCRIPTION:
URL:https://fmsc.ca/event/saturday-swim-practice-5/
LOCATION:Alberta
END:VEVENT
BEGIN:VEVENT
DTSTART;TZID=America/Boise:20251003T180000
DTEND;TZID=America/Boise:20251003T200000
DTSTAMP:20260423T040924
CREATED:20250923T210042Z
LAST-MODIFIED:20250923T210042Z
UID:1462-1759514400-1759521600@fmsc.ca
SUMMARY:Ladies Soup Night
DESCRIPTION:Think of it as comfort food meets comfort friends—ladles up\, ladies!
URL:https://fmsc.ca/event/ladies-soup-night/
LOCATION:BJ’s\, Calgary\, Alberta\, Canada
END:VEVENT
BEGIN:VEVENT
DTSTART;TZID=America/Boise:20251002T180000
DTEND;TZID=America/Boise:20251002T190000
DTSTAMP:20260423T040924
CREATED:20250829T201032Z
LAST-MODIFIED:20250829T201032Z
UID:1301-1759428000-1759431600@fmsc.ca
SUMMARY:Thursday Swim Practice
DESCRIPTION:
URL:https://fmsc.ca/event/thursday-swim-practice-5/
LOCATION:Foothills Pool\, 2915 24 Ave NW\, Calgary\, AB T2N 4L6\, Calgary\, Alberta\, Canada
END:VEVENT
BEGIN:VEVENT
DTSTART;TZID=America/Boise:20250927T073000
DTEND;TZID=America/Boise:20250927T090000
DTSTAMP:20260423T040924
CREATED:20250829T201017Z
LAST-MODIFIED:20250829T201017Z
UID:1296-1758958200-1758963600@fmsc.ca
SUMMARY:Saturday Swim Practice
DESCRIPTION:
URL:https://fmsc.ca/event/saturday-swim-practice-4/
LOCATION:Alberta
END:VEVENT
BEGIN:VEVENT
DTSTART;TZID=America/Boise:20250925T180000
DTEND;TZID=America/Boise:20250925T190000
DTSTAMP:20260423T040924
CREATED:20250829T201004Z
LAST-MODIFIED:20250829T201004Z
UID:1292-1758823200-1758826800@fmsc.ca
SUMMARY:Thursday Swim Practice
DESCRIPTION:
URL:https://fmsc.ca/event/thursday-swim-practice-4/
LOCATION:Foothills Pool\, 2915 24 Ave NW\, Calgary\, AB T2N 4L6\, Calgary\, Alberta\, Canada
END:VEVENT
BEGIN:VEVENT
DTSTART;TZID=America/Boise:20250923T180000
DTEND;TZID=America/Boise:20250923T190000
DTSTAMP:20260423T040924
CREATED:20250829T200958Z
LAST-MODIFIED:20250829T200958Z
UID:1288-1758650400-1758654000@fmsc.ca
SUMMARY:Tuesday Swim Practice
DESCRIPTION:
URL:https://fmsc.ca/event/tuesday-swim-practice-4/
LOCATION:Foothills Pool\, 2915 24 Ave NW\, Calgary\, AB T2N 4L6\, Calgary\, Alberta\, Canada
END:VEVENT
BEGIN:VEVENT
DTSTART;TZID=America/Boise:20250920T073000
DTEND;TZID=America/Boise:20250920T090000
DTSTAMP:20260423T040924
CREATED:20250829T201017Z
LAST-MODIFIED:20250829T201017Z
UID:1295-1758353400-1758358800@fmsc.ca
SUMMARY:Saturday Swim Practice
DESCRIPTION:
URL:https://fmsc.ca/event/saturday-swim-practice-3/
LOCATION:Alberta
END:VEVENT
BEGIN:VEVENT
DTSTART;TZID=America/Boise:20250918T180000
DTEND;TZID=America/Boise:20250918T190000
DTSTAMP:20260423T040924
CREATED:20250829T201003Z
LAST-MODIFIED:20250829T201003Z
UID:1291-1758218400-1758222000@fmsc.ca
SUMMARY:Thursday Swim Practice
DESCRIPTION:
URL:https://fmsc.ca/event/thursday-swim-practice-3/
LOCATION:Foothills Pool\, 2915 24 Ave NW\, Calgary\, AB T2N 4L6\, Calgary\, Alberta\, Canada
END:VEVENT
BEGIN:VEVENT
DTSTART;TZID=America/Boise:20250916T180000
DTEND;TZID=America/Boise:20250916T190000
DTSTAMP:20260423T040924
CREATED:20250829T200958Z
LAST-MODIFIED:20250829T200958Z
UID:1287-1758045600-1758049200@fmsc.ca
SUMMARY:Tuesday Swim Practice
DESCRIPTION:
URL:https://fmsc.ca/event/tuesday-swim-practice-3/
LOCATION:Foothills Pool\, 2915 24 Ave NW\, Calgary\, AB T2N 4L6\, Calgary\, Alberta\, Canada
END:VEVENT
BEGIN:VEVENT
DTSTART;TZID=America/Boise:20250913T073000
DTEND;TZID=America/Boise:20250913T090000
DTSTAMP:20260423T040924
CREATED:20250829T201005Z
LAST-MODIFIED:20250829T201005Z
UID:1294-1757748600-1757754000@fmsc.ca
SUMMARY:Saturday Swim Practice
DESCRIPTION:
URL:https://fmsc.ca/event/saturday-swim-practice-2/
LOCATION:Alberta
END:VEVENT
END:VCALENDAR